BEGIN:VCALENDAR
VERSION:2.0
PRODID:-//Nobahar Design - ECPv6.15.20//NONSGML v1.0//EN
CALSCALE:GREGORIAN
METHOD:PUBLISH
X-ORIGINAL-URL:https://www.nobahardesign.com
X-WR-CALDESC:Events for Nobahar Design
REFRESH-INTERVAL;VALUE=DURATION:PT1H
X-Robots-Tag:noindex
X-PUBLISHED-TTL:PT1H
BEGIN:VTIMEZONE
TZID:Europe/Helsinki
BEGIN:DAYLIGHT
TZOFFSETFROM:+0200
TZOFFSETTO:+0300
TZNAME:EEST
DTSTART:20160327T010000
END:DAYLIGHT
BEGIN:STANDARD
TZOFFSETFROM:+0300
TZOFFSETTO:+0200
TZNAME:EET
DTSTART:20161030T010000
END:STANDARD
BEGIN:DAYLIGHT
TZOFFSETFROM:+0200
TZOFFSETTO:+0300
TZNAME:EEST
DTSTART:20170326T010000
END:DAYLIGHT
BEGIN:STANDARD
TZOFFSETFROM:+0300
TZOFFSETTO:+0200
TZNAME:EET
DTSTART:20171029T010000
END:STANDARD
BEGIN:DAYLIGHT
TZOFFSETFROM:+0200
TZOFFSETTO:+0300
TZNAME:EEST
DTSTART:20180325T010000
END:DAYLIGHT
BEGIN:STANDARD
TZOFFSETFROM:+0300
TZOFFSETTO:+0200
TZNAME:EET
DTSTART:20181028T010000
END:STANDARD
END:VTIMEZONE
BEGIN:VEVENT
DTSTART;VALUE=DATE:20171124
DTEND;VALUE=DATE:20171204
DTSTAMP:20260424T030040
CREATED:20211013T155738Z
LAST-MODIFIED:20211021T125600Z
UID:5341-1511481600-1512345599@www.nobahardesign.com
SUMMARY:A Jewel For Life
DESCRIPTION:Nobahar Design Milano invites you to the Special Edition of “A Jewel For Life” exhibitions\, curated  by Sandra Ercolani & Carmela Barbato. \nThe opening  ceremony is going to be held on Friday 24th of November from 17:00 at Sala Romanelli\, Royal Palace of Caserta (CE\, Italy)
URL:https://www.nobahardesign.com/event/ajewelforlife-caserta/
LOCATION:Royal Palace of Caserta\, Piazza Carlo di Borbone\, Caserta\, CE\, 81100\, Italy
END:VEVENT
BEGIN:VEVENT
DTSTART;VALUE=DATE:20171007
DTEND;VALUE=DATE:20171016
DTSTAMP:20260424T030040
CREATED:20211013T072744Z
LAST-MODIFIED:20211013T073420Z
UID:5330-1507334400-1508111999@www.nobahardesign.com
SUMMARY:Venice Design Week
DESCRIPTION:Talking About Water: Fluidity\, Movement\, Transparency\, Life. \nNobahar Design Milano is pleased to announce that will be at Venice Design Week as one of the finalists with our limited edition brooch “The Fluidity Is The Way To Life” dedicated to the city of Venice. \n 
URL:https://www.nobahardesign.com/event/venicedesignweek2017/
LOCATION:CaPisani Hotel\, Dorsoduro 979/A\, venice\, Venice\, 30123\, Italy
END:VEVENT
BEGIN:VEVENT
DTSTART;VALUE=DATE:20170923
DTEND;VALUE=DATE:20170925
DTSTAMP:20260424T030040
CREATED:20170813T071617Z
LAST-MODIFIED:20211013T073519Z
UID:5325-1506124800-1506297599@www.nobahardesign.com
SUMMARY:A Jewel For Life
DESCRIPTION:NO to violence against women. \nNobahar Design Milano invites you to “A Jewel For Life” itinerary exhibition\, curated by Sandra Ercolani. \nWe will be present with our first design\, “The Rebirth Of Lotus” cuff. \nThe Closure ceremony is going to be held on Sunday 24th of September from 16:00 to 18:00.
URL:https://www.nobahardesign.com/event/ajewelforlife-pianellovaltidone/
LOCATION:Palazzo Del Municipio\, Palazzo Del Municipio - Largo Dal Verme\, Pianello Val Tidone\, Piacenza\, 29010\, Italy
END:VEVENT
BEGIN:VEVENT
DTSTART;VALUE=DATE:20170422
DTEND;VALUE=DATE:20170426
DTSTAMP:20260424T030040
CREATED:20170313T070435Z
LAST-MODIFIED:20211013T073555Z
UID:5315-1492819200-1493164799@www.nobahardesign.com
SUMMARY:A Jewel For Life
DESCRIPTION:NO to violence against women. \nNobahar Design Milano invites you to “A Jewel For Life” itinerary exhibition\, curated by Sandra Ercolani. \nWe will be present with our first design\, “The Rebirth Of Lotus” cuff. \nThe Open Day ceremony is going to be held on Saturday 22nd of April from 18:00 to 20:00.
URL:https://www.nobahardesign.com/event/ajewelforlife-vigolzone/
LOCATION:Castello Anguissola\, Via Castello\, Vigolzone\, Piacenza\, 29020\, Italy
END:VEVENT
BEGIN:VEVENT
DTSTART;VALUE=DATE:20170404
DTEND;VALUE=DATE:20170410
DTSTAMP:20260424T030040
CREATED:20170320T064558Z
LAST-MODIFIED:20211013T073955Z
UID:5308-1491264000-1491782399@www.nobahardesign.com
SUMMARY:Milan Design Week
DESCRIPTION:TEHRAN from MY CITY Collection. You can not be in two places at once! \nNobahar Design Milano invites you to the presentation of the first line of MyCity collection\, TEHRAN\, at Zona Isola during FuoriSalone in Milan\, Italy. \n  \n 
URL:https://www.nobahardesign.com/event/milandesignweek2017/
LOCATION:Isola Design District\, via Federico Confalonieri\, 11\, Milan\, Milan\, 20121\, Italy
END:VEVENT
BEGIN:VEVENT
DTSTART;VALUE=DATE:20170308
DTEND;VALUE=DATE:20170319
DTSTAMP:20260424T030040
CREATED:20170215T204841Z
LAST-MODIFIED:20211013T073723Z
UID:5285-1488931200-1489881599@www.nobahardesign.com
SUMMARY:A Jewel For Life
DESCRIPTION:NO to violence against women. \nNobahar Design Milano invites you to “A Jewel For Life” itinerary exhibition\, curated by Sandra Ercolani. \nWe will be present with our first design\, “The Rebirth Of Lotus” cuff. \nThe Open Day ceremony is going to be held on Wednesday 8th of March from 18:30 to 20:30.
URL:https://www.nobahardesign.com/event/ajewelforlife-piacenza/
LOCATION:Palazzo Ghizzoni\, via Serafini 12\, Piacenza\, piacenza\, 29121\, Italy
END:VEVENT
END:VCALENDAR